Workbook

Sheet Planejamento
B2: Meta para ANPEC 2020 | C2: 1000 | E2: Horas estudadas | F2: =SUM(E6:E10) -> 2 | G2: =F2/C2 -> 0.002
B5: Disciplinas | C5: Total de Horas | D5: % Total | E5: Horas Estudadas | F5: % Estudado
B6: Matemática | C6: 300 | D6: =C6/$C$2 -> 0.3 | E6: =Horas!D4+Horas!J4 -> 1 | F6: =E6/C6 -> 0.0033333333
B7: Estatística | C7: 180 | D7: =C7/$C$2 -> 0.18 | E7: =Horas!D5+Horas!J5 -> 0 | F7: =E7/C7 -> 0
B8: Macroeconomia | C8: 200 | D8: =C8/$C$2 -> 0.2 | E8: =Horas!D6+Horas!J6 -> 1 | F8: =E8/C8 -> 0.005
B9: Microeconomia | C9: 200 | D9: =C9/$C$2 -> 0.2 | E9: =Horas!D7+Horas!J7 -> 0 | F9: =E9/C9 -> 0
B10: Economia Brasileira | C10: 120 | D10: =C10/$C$2 -> 0.12 | E10: =Horas!D8+Horas!J8 -> 0 | F10: =E10/C10 -> 0

Sheet Horas
B1: 2019/1 | H1: 2019/2
A3: Soma Total: | B3: =SUM(D3,J3) -> 2 | C3: Soma Parcial: | D3: =SUM(D4:D8) -> 1 | E3: =D3/B3 -> 0.5 | I3: Soma Parcial: | J3: =SUM(J4:J8) -> 1 | K3: =J3/B3 -> 0.5
C4: Matemática | D4: =SUMIF($C$10:$C$1048576,C4,$D$10:$D$1048576) -> 1 | E4: =D4/$D$3 -> 1 | I4: Matemática | J4: =SUMIF($I$11:$I$1048576,I4,$J$11:$J$1048576) -> 0 | K4: =J4/$J$3 -> 0
C5: Estatística | D5: =SUMIF($C$10:$C$1048576,C5,$D$10:$D$1048576) -> 0 | E5: =D5/$D$3 -> 0 | I5: Estatística | J5: =SUMIF($I$11:$I$1048576,I5,$J$11:$J$1048576) -> 0 | K5: =J5/$J$3 -> 0
C6: Macroeconomia | D6: =SUMIF($C$10:$C$1048576,C6,$D$10:$D$1048576) -> 0 | E6: =D6/$D$3 -> 0 | I6: Macroeconomia | J6: =SUMIF($I$10:$I$1048576,I6,$J$10:$J$1048576) -> 1 | K6: =J6/$J$3 -> 1
C7: Microeconomia | D7: =SUMIF($C$10:$C$1048576,C7,$D$10:$D$1048576) -> 0 | E7: =D7/$D$3 -> 0 | I7: Microeconomia | J7: =SUMIF($I$11:$I$1048576,I7,$J$11:$J$1048576) -> 0 | K7: =J7/$J$3 -> 0
C8: Economia Brasileira | D8: =SUMIF($C$10:$C$1048576,C8,$D$10:$D$1048576) -> 0 | E8: =D8/$D$3 -> 0 | I8: Economia Brasileira | J8: =SUMIF($I$11:$I$1048576,I8,$J$11:$J$1048576) -> 0 | K8: =J8/$J$3 -> 0
B10: 43103 | C10: Matemática | D10: 1 | H10: 43313 | I10: Macroeconomia | J10: 1
