Workbook

Sheet Planejamento
B2: Meta para ANPEC 2018 | C2: 1000 | E2: Horas estudadas | F2: =SUM(E6:E10) -> 1000 | G2: =F2/C2 -> 1
B5: Disciplinas | C5: Total de Horas | D5: % Total | E5: Horas Estudadas | F5: % Estudado
B6: Matemática | C6: 300 | D6: =C6/$C$2 -> 0.3 | E6: =Horas!C3+Horas!I3+Horas!N3+Horas!S3+Horas!X3 -> 300 | F6: =E6/C6 -> 1
B7: Estatística | C7: 180 | D7: =C7/$C$2 -> 0.18 | E7: =Horas!C4+Horas!I4+Horas!N4+Horas!S4+Horas!X4 -> 180 | F7: =E7/C7 -> 1
B8: Macroeconomia | C8: 200 | D8: =C8/$C$2 -> 0.2 | E8: =Horas!C5+Horas!I5+Horas!N5+Horas!S5+Horas!X5 -> 200 | F8: =E8/C8 -> 1
B9: Microeconomia | C9: 200 | D9: =C9/$C$2 -> 0.2 | E9: =Horas!C6+Horas!I6+Horas!N6+Horas!S6+Horas!X6 -> 200 | F9: =E9/C9 -> 1
B10: Economia Brasileira | C10: 120 | D10: =C10/$C$2 -> 0.12 | E10: =Horas!C7+Horas!I7+Horas!N7+Horas!S7+Horas!X7 -> 120 | F10: =E10/C10 -> 1

Sheet Horas
A1: 2017/1 | G1: 2017/2 | L1: 2018 Férias | Q1: 2018/01 | V1: 2018/02
A2: =SUM(C2,I2,N2,S2,X2) -> 1000 | C2: =SUM(C3:C7) -> 43.5 | D2: =C2/A2 -> 0.0435 | I2: =SUM(I3:I7) -> 183 | J2: =I2/A2 -> 0.183 | N2: =SUM(N3:N7) -> 273.5 | O2: =N2/A2 -> 0.2735 | S2: =SUM(S9:S9999) -> 386 | T2: =S2/A2 -> 0.386 | X2: =SUM(X9:X10000) -> 114 | Y2: =X2/A2 -> 0.114
B3: Matemática | C3: =SUMIF($B$9:$B$1048576,B3,$C$9:$C$1048576) -> 15 | D3: =C3/$C$2 -> 0.34482759 | H3: Matemática | I3: =SUMIF($H$10:$H$1048576,H3,$I$10:$I$1048576) -> 6 | J3: =I3/$I$2 -> 0.032786885 | M3: Matemática | N3: =SUMIF($M$9:$M$1048576,M3,$N$9:$N$1048576) -> 104 | O3: =N3/$N$2 -> 0.38025594 | R3: Matemática | S3: =SUMIF($R$9:$R$1048576,R3,$S$9:$S$1048576) -> 130.5 | T3: =S3/$S$2 -> 0.3380829 | W3: Matemática | X3: =SUMIF($W$9:$W$1048576,W3,$X$9:$X$1048576) -> 44.5 | Y3: =X3/$X$2 -> 0.39035088
B4: Estatística | C4: =SUMIF($B$9:$B$1048576,B4,$C$9:$C$1048576) -> 0 | D4: =C4/$C$2 -> 0 | H4: Estatística | I4: =SUMIF($H$10:$H$1048576,H4,$I$10:$I$1048576) -> 10.5 | J4: =I4/$I$2 -> 0.057377049 | M4: Estatística | N4: =SUMIF($M$9:$M$1048576,M4,$N$9:$N$1048576) -> 64.5 | O4: =N4/$N$2 -> 0.23583181 | R4: Estatística | S4: =SUMIF($R$9:$R$1048576,R4,$S$9:$S$1048576) -> 90.5 | T4: =S4/$S$2 -> 0.23445596 | W4: Estatística | X4: =SUMIF($W$9:$W$1048576,W4,$X$9:$X$1048576) -> 14.5 | Y4: =X4/$X$2 -> 0.12719298
B5: Macroeconomia | C5: =SUMIF($B$9:$B$1048576,B5,$C$9:$C$1048576) -> 7.5 | D5: =C5/$C$2 -> 0.17241379 | H5: Macroeconomia | I5: =SUMIF($H$10:$H$1048576,H5,$I$10:$I$1048576) -> 20 | J5: =I5/$I$2 -> 0.10928962 | M5: Macroeconomia | N5: =SUMIF($M$9:$M$1048576,M5,$N$9:$N$1048576) -> 88.5 | O5: =N5/$N$2 -> 0.32358318 | R5: Macroeconomia | S5: =SUMIF($R$9:$R$1048576,R5,$S$9:$S$1048576) -> 51.5 | T5: =S5/$S$2 -> 0.13341969 | W5: Macroeconomia | X5: =SUMIF($W$9:$W$1048576,W5,$X$9:$X$1048576) -> 32.5 | Y5: =X5/$X$2 -> 0.28508772
B6: Microeconomia | C6: =SUMIF($B$9:$B$1048576,B6,$C$9:$C$1048576) -> 17 | D6: =C6/$C$2 -> 0.3908046 | H6: Microeconomia | I6: =SUMIF($H$10:$H$1048576,H6,$I$10:$I$1048576) -> 73 | J6: =I6/$I$2 -> 0.3989071 | M6: Microeconomia | N6: =SUMIF($M$9:$M$1048576,M6,$N$9:$N$1048576) -> 5 | O6: =N6/$N$2 -> 0.018281536 | R6: Microeconomia | S6: =SUMIF($R$9:$R$1048576,R6,$S$9:$S$1048576) -> 86 | T6: =S6/$S$2 -> 0.22279793 | W6: Microeconomia | X6: =SUMIF($W$9:$W$1048576,W6,$X$9:$X$1048576) -> 19 | Y6: =X6/$X$2 -> 0.16666667
B7: Economia Brasileira | C7: =SUMIF($B$9:$B$1048576,B7,$C$9:$C$1048576) -> 4 | D7: =C7/$C$2 -> 0.091954023 | H7: Economia Brasileira | I7: =SUMIF($H$10:$H$1048576,H7,$I$10:$I$1048576) -> 73.5 | J7: =I7/$I$2 -> 0.40163934 | M7: Economia Brasileira | N7: =SUMIF($M$9:$M$1048576,M7,$N$9:$N$1048576) -> 11.5 | O7: =N7/$N$2 -> 0.042047532 | R7: Economia Brasileira | S7: =SUMIF($R$9:$R$1048576,R7,$S$9:$S$1048576) -> 27.5 | T7: =S7/$S$2 -> 0.071243523 | W7: Economia Brasileira | X7: =SUMIF($W$9:$W$1048576,W7,$X$9:$X$1048576) -> 3.5 | Y7: =X7/$X$2 -> 0.030701754
A9: 42885 | B9: Economia Brasileira | C9: 1 | D9: =WEEKDAY(A9) -> 3 | G9: 42955 | H9: Macroeconomia | I9: 1 | J9: =WEEKDAY(G9) -> 3 | L9: 43103 | M9: Estatística | N9: 2 | O9: =WEEKDAY(L9,1) -> 4 | Q9: 43173 | R9: Microeconomia | S9: 1 | T9: =WEEKDAY(Q9) -> 4 | V9: 43311 | W9: Estatística | X9: 2 | Y9: =WEEKDAY(V9) -> 2
A10: 42886 | B10: Matemática | C10: 1.5 | D10: =WEEKDAY(A10) -> 4 | G10: 42956 | H10: Economia Brasileira | I10: 1 | J10: =WEEKDAY(G10) -> 4 | L10: 43103 | M10: Macroeconomia | N10: 3 | O10: =WEEKDAY(L10,1) -> 4 | Q10: 43174 | R10: Matemática | S10: 3 | T10: =WEEKDAY(Q10) -> 5 | V10: 43311 | W10: Macroeconomia | X10: 2 | Y10: =WEEKDAY(V10) -> 2
A11: 42887 | B11: Matemática | C11: 2 | D11: =WEEKDAY(A11) -> 5 | G11: 42957 | H11: Microeconomia | I11: 2.5 | J11: =WEEKDAY(G11) -> 5 | L11: 43103 | M11: Matemática | N11: 1 | O11: =WEEKDAY(L11,1) -> 4 | Q11: 43174 | R11: Estatística | S11: 3 | T11: =WEEKDAY(Q11) -> 5 | V11: 43311 | W11: Economia Brasileira | X11: 3 | Y11: =WEEKDAY(V11) -> 2
A12: 42888 | B12: Matemática | C12: 1 | D12: =WEEKDAY(A12) -> 6 | G12: 42958 | H12: Microeconomia | I12: 1.5 | J12: =WEEKDAY(G12) -> 6 | L12: 43104 | M12: Estatística | N12: 3 | O12: =WEEKDAY(L12,1) -> 5 | Q12: 43175 | R12: Estatística | S12: 3 | T12: =WEEKDAY(Q12) -> 6 | V12: 43312 | W12: Matemática | X12: 2 | Y12: =WEEKDAY(V12) -> 3
A13: 42888 | B13: Microeconomia | C13: 0.5 | D13: =WEEKDAY(A13) -> 6 | G13: 42961 | H13: Matemática | I13: 3 | J13: =WEEKDAY(G13) -> 2 | L13: 43104 | M13: Matemática | N13: 3 | O13: =WEEKDAY(L13,1) -> 5 | Q13: 43175 | R13: Microeconomia | S13: 1 | T13: =WEEKDAY(Q13) -> 6 | V13: 43312 | W13: Economia Brasileira | X13: 0.5 | Y13: =WEEKDAY(V13) -> 3
A14: 42889 | B14: Microeconomia | C14: 1 | D14: =WEEKDAY(A14) -> 7 | G14: 42962 | H14: Microeconomia | I14: 2.5 | J14: =WEEKDAY(G14) -> 3 | L14: 43104 | M14: Macroeconomia | N14: 1 | O14: =WEEKDAY(L14,1) -> 5 | Q14: 43175 | R14: Matemática | S14: 2 | T14: =WEEKDAY(Q14) -> 6 | V14: 43312 | W14: Microeconomia | X14: 2.5 | Y14: =WEEKDAY(V14) -> 3
A15: 42891 | B15: Microeconomia | C15: 1 | D15: =WEEKDAY(A15) -> 2 | G15: 42963 | H15: Economia Brasileira | I15: 2.5 | J15: =WEEKDAY(G15) -> 4 | L15: 43105 | M15: Macroeconomia | N15: 4 | O15: =WEEKDAY(L15,1) -> 6 | Q15: 43176 | R15: Matemática | S15: 4 | T15: =WEEKDAY(Q15) -> 7 | V15: 43312 | W15: Estatística | X15: 2 | Y15: =WEEKDAY(V15) -> 3
A16: 42892 | B16: Microeconomia | C16: 1 | D16: =WEEKDAY(A16) -> 3 | G16: 42963 | H16: Matemática | I16: 1.5 | J16: =WEEKDAY(G16) -> 4 | L16: 43105 | M16: Estatística | N16: 2.5 | O16: =WEEKDAY(L16,1) -> 6 | Q16: 43176 | R16: Estatística | S16: 3 | T16: =WEEKDAY(Q16) -> 7 | V16: 43313 | W16: Macroeconomia | X16: 6 | Y16: =WEEKDAY(V16) -> 4
A17: 42894 | B17: Microeconomia | C17: 1.5 | D17: =WEEKDAY(A17) -> 5 | G17: 42964 | H17: Microeconomia | I17: 3.5 | J17: =WEEKDAY(G17) -> 5 | L17: 43105 | M17: Matemática | N17: 1 | O17: =WEEKDAY(L17,1) -> 6 | Q17: 43178 | R17: Matemática | S17: 1 | T17: =WEEKDAY(Q17) -> 2 | V17: 43313 | W17: Matemática | X17: 0.5 | Y17: =WEEKDAY(V17) -> 4
A18: 42894 | B18: Matemática | C18: 1.5 | D18: =WEEKDAY(A18) -> 5 | G18: 42964 | H18: Economia Brasileira | I18: 0.5 | J18: =WEEKDAY(G18) -> 5 | L18: 43106 | M18: Economia Brasileira | N18: 3 | O18: =WEEKDAY(L18,1) -> 7 | Q18: 43179 | R18: Macroeconomia | S18: 1 | T18: =WEEKDAY(Q18) -> 3 | V18: 43313 | W18: Microeconomia | X18: 0.5 | Y18: =WEEKDAY(V18) -> 4
A19: 42895 | B19: Matemática | C19: 1 | D19: =WEEKDAY(A19) -> 6 | G19: 42965 | H19: Macroeconomia | I19: 2 | J19: =WEEKDAY(G19) -> 6 | L19: 43108 | M19: Macroeconomia | N19: 3 | O19: =WEEKDAY(L19,1) -> 2 | Q19: 43179 | R19: Microeconomia | S19: 4 | T19: =WEEKDAY(Q19) -> 3 | V19: 43313 | W19: Estatística | X19: 0.5 | Y19: =WEEKDAY(V19) -> 4
A20: 42898 | B20: Microeconomia | C20: 2 | D20: =WEEKDAY(A20) -> 2 | G20: 42965 | H20: Microeconomia | I20: 1 | J20: =WEEKDAY(G20) -> 6 | L20: 43108 | M20: Matemática | N20: 2.5 | O20: =WEEKDAY(L20,1) -> 2 | Q20: 43180 | R20: Microeconomia | S20: 3 | T20: =WEEKDAY(Q20) -> 4 | V20: 43314 | W20: Macroeconomia | X20: 3 | Y20: =WEEKDAY(V20) -> 5
... A38: 42929 | B38: Economia Brasileira | C38: 1 | D38: =WEEKDAY(A38) -> 5 | G38: 42978 | H38: Microeconomia | I38: 4.5 | J38: =WEEKDAY(G38) -> 5 | L38: 43116 | M38: Estatística | N38: 1 | O38: =WEEKDAY(L38,1) -> 3 | Q38: 43193 | R38: Microeconomia | S38: 3.5 | T38: =WEEKDAY(Q38) -> 3 | V38: 43323 | W38: Matemática | X38: 4 | Y38: =WEEKDAY(V38) -> 7
G39: 42979 | H39: Economia Brasileira | I39: 1.5 | J39: =WEEKDAY(G39) -> 6 | L39: 43116 | M39: Macroeconomia | N39: 3 | O39: =WEEKDAY(L39,1) -> 3 | Q39: 43193 | R39: Matemática | S39: 2.5 | T39: =WEEKDAY(Q39) -> 3 | V39: 43323 | W39: Macroeconomia | X39: 2 | Y39: =WEEKDAY(V39) -> 7
C40: =SUMIF($D$9:$D$38,D40,$C$9:$C$38) -> 11 | D40: 2 | G40: 42979 | H40: Microeconomia | I40: 0.5 | J40: =WEEKDAY(G40) -> 6 | L40: 43117 | M40: Estatística | N40: 2.5 | O40: =WEEKDAY(L40,1) -> 4 | Q40: 43193 | R40: Estatística | S40: 1 | T40: =WEEKDAY(Q40) -> 3 | V40: 43325 | W40: Macroeconomia | X40: 4.5 | Y40: =WEEKDAY(V40) -> 2
C41: =SUMIF($D$9:$D$38,D41,$C$9:$C$38) -> 9.5 | D41: 3 | G41: 42980 | H41: Microeconomia | I41: 6.5 | J41: =WEEKDAY(G41) -> 7 | L41: 43117 | M41: Macroeconomia | N41: 3.5 | O41: =WEEKDAY(L41,1) -> 4 | Q41: 43194 | R41: Matemática | S41: 3 | T41: =WEEKDAY(Q41) -> 4 | V41: 43325 | W41: Estatística | X41: 1 | Y41: =WEEKDAY(V41) -> 2
C42: =SUMIF($D$9:$D$38,D42,$C$9:$C$38) -> 4.5 | D42: 4 | G42: 42982 | H42: Economia Brasileira | I42: 2.5 | J42: =WEEKDAY(G42) -> 2 | L42: 43118 | M42: Macroeconomia | N42: 3 | O42: =WEEKDAY(L42,1) -> 5 | Q42: 43195 | R42: Estatística | S42: 2 | T42: =WEEKDAY(Q42) -> 5 | V42: 43325 | W42: Matemática | X42: 0.5 | Y42: =WEEKDAY(V42) -> 2
C43: =SUMIF($D$9:$D$38,D43,$C$9:$C$38) -> 8.5 | D43: 5 | G43: 42983 | H43: Economia Brasileira | I43: 2.5 | J43: =WEEKDAY(G43) -> 3 | L43: 43118 | M43: Matemática | N43: 3 | O43: =WEEKDAY(L43,1) -> 5 | Q43: 43195 | R43: Macroeconomia | S43: 2 | T43: =WEEKDAY(Q43) -> 5 | V43: 43325 | W43: Microeconomia | X43: 1 | Y43: =WEEKDAY(V43) -> 2
C44: =SUMIF($D$9:$D$38,D44,$C$9:$C$38) -> 4 | D44: 6 | G44: 42983 | H44: Macroeconomia | I44: 2 | J44: =WEEKDAY(G44) -> 3 | L44: 43118 | M44: Estatística | N44: 2 | O44: =WEEKDAY(L44,1) -> 5 | Q44: 43195 | R44: Matemática | S44: 1 | T44: =WEEKDAY(Q44) -> 5 | V44: 43326 | W44: Matemática | X44: 4.5 | Y44: =WEEKDAY(V44) -> 3
C45: =SUMIF($D$9:$D$38,D45,$C$9:$C$38) -> 6 | D45: 7 | G45: 42983 | H45: Microeconomia | I45: 3.5 | J45: =WEEKDAY(G45) -> 3 | L45: 43119 | M45: Macroeconomia | N45: 3 | O45: =WEEKDAY(L45,1) -> 6 | Q45: 43196 | R45: Matemática | S45: 1 | T45: =WEEKDAY(Q45) -> 6 | V45: 43326 | W45: Estatística | X45: 0.5 | Y45: =WEEKDAY(V45) -> 3
G46: 42984 | H46: Economia Brasileira | I46: 1.5 | J46: =WEEKDAY(G46) -> 4 | L46: 43119 | M46: Matemática | N46: 2 | O46: =WEEKDAY(L46,1) -> 6 | Q46: 43196 | R46: Macroeconomia | S46: 2.5 | T46: =WEEKDAY(Q46) -> 6 | V46: 43327 | W46: Matemática | X46: 5.5 | Y46: =WEEKDAY(V46) -> 4
G47: 42986 | H47: Microeconomia | I47: 1.5 | J47: =WEEKDAY(G47) -> 6 | L47: 43119 | M47: Economia Brasileira | N47: 1 | O47: =WEEKDAY(L47,1) -> 6 | Q47: 43196 | R47: Estatística | S47: 2.5 | T47: =WEEKDAY(Q47) -> 6 | V47: 43327 | W47: Estatística | X47: 2 | Y47: =WEEKDAY(V47) -> 4
G48: 42986 | H48: Economia Brasileira | I48: 2 | J48: =WEEKDAY(G48) -> 6 | L48: 43119 | M48: Estatística | N48: 1.5 | O48: =WEEKDAY(L48,1) -> 6 | Q48: 43197 | R48: Estatística | S48: 2.5 | T48: =WEEKDAY(Q48) -> 7 | V48: 43328 | W48: Microeconomia | X48: 2.5 | Y48: =WEEKDAY(V48) -> 5
G49: 42987 | H49: Economia Brasileira | I49: 1.5 | J49: =WEEKDAY(G49) -> 7 | L49: 43120 | M49: Estatística | N49: 4 | O49: =WEEKDAY(L49,1) -> 7 | Q49: 43197 | R49: Economia Brasileira | S49: 2.5 | T49: =WEEKDAY(Q49) -> 7 | V49: 43328 | W49: Estatística | X49: 2.5 | Y49: =WEEKDAY(V49) -> 5
G50: 42989 | H50: Economia Brasileira | I50: 0.5 | J50: =WEEKDAY(G50) -> 2 | L50: 43120 | M50: Economia Brasileira | N50: 1 | O50: =WEEKDAY(L50,1) -> 7 | Q50: 43199 | R50: Macroeconomia | S50: 1 | T50: =WEEKDAY(Q50) -> 2 | V50: 43328 | W50: Matemática | X50: 2.5 | Y50: =WEEKDAY(V50) -> 5
G51: 42989 | H51: Microeconomia | I51: 2.5 | J51: =WEEKDAY(G51) -> 2 | L51: 43120 | M51: Macroeconomia | N51: 2 | O51: =WEEKDAY(L51,1) -> 7 | Q51: 43199 | R51: Microeconomia | S51: 1 | T51: =WEEKDAY(Q51) -> 2 | V51: 43332 | W51: Estatística | X51: 2 | Y51: =WEEKDAY(V51) -> 2
G52: 42990 | H52: Microeconomia | I52: 5.5 | J52: =WEEKDAY(G52) -> 3 | L52: 43120 | M52: Matemática | N52: 1 | O52: =WEEKDAY(L52,1) -> 7 | Q52: 43200 | R52: Microeconomia | S52: 3 | T52: =WEEKDAY(Q52) -> 3 | V52: 43332 | W52: Microeconomia | X52: 0.5 | Y52: =WEEKDAY(V52) -> 2
G53: 42990 | H53: Macroeconomia | I53: 0.5 | J53: =WEEKDAY(G53) -> 3 | L53: 43129 | M53: Macroeconomia | N53: 3 | O53: =WEEKDAY(L53,1) -> 2 | Q53: 43200 | R53: Estatística | S53: 1 | T53: =WEEKDAY(Q53) -> 3 | V53: 43332 | W53: Matemática | X53: 0.5 | Y53: =WEEKDAY(V53) -> 2
G54: 42990 | H54: Economia Brasileira | I54: 0.5 | J54: =WEEKDAY(G54) -> 3 | L54: 43129 | M54: Matemática | N54: 3 | O54: =WEEKDAY(L54,1) -> 2 | Q54: 43201 | R54: Matemática | S54: 3 | T54: =WEEKDAY(Q54) -> 4 | V54: 43333 | W54: Matemática | X54: 2.5 | Y54: =WEEKDAY(V54) -> 3
G55: 42991 | H55: Economia Brasileira | I55: 2.5 | J55: =WEEKDAY(G55) -> 4 | L55: 43129 | M55: Estatística | N55: 2 | O55: =WEEKDAY(L55,1) -> 2 | Q55: 43202 | R55: Microeconomia | S55: 5 | T55: =WEEKDAY(Q55) -> 5 | V55: 43333 | W55: Microeconomia | X55: 2.5 | Y55: =WEEKDAY(V55) -> 3
G56: 42991 | H56: Microeconomia | I56: 3 | J56: =WEEKDAY(G56) -> 4 | L56: 43130 | M56: Macroeconomia | N56: 3 | O56: =WEEKDAY(L56,1) -> 3 | Q56: 43202 | R56: Matemática | S56: 1 | T56: =WEEKDAY(Q56) -> 5 | V56: 43334 | W56: Matemática | X56: 5 | Y56: =WEEKDAY(V56) -> 4
G57: 42992 | H57: Economia Brasileira | I57: 2 | J57: =WEEKDAY(G57) -> 5 | L57: 43130 | M57: Matemática | N57: 2 | O57: =WEEKDAY(L57,1) -> 3 | Q57: 43202 | R57: Macroeconomia | S57: 1.5 | T57: =WEEKDAY(Q57) -> 5 | V57: 43334 | W57: Microeconomia | X57: 1 | Y57: =WEEKDAY(V57) -> 4
... G59: 42993 | H59: Economia Brasileira | I59: 1.5 | J59: =WEEKDAY(G59) -> 6 | L59: 43131 | M59: Macroeconomia | N59: 1 | O59: =WEEKDAY(L59,1) -> 4 | Q59: 43203 | R59: Microeconomia | S59: 3 | T59: =WEEKDAY(Q59) -> 6 | V59: 43335 | W59: Matemática | X59: 0.5 | Y59: =WEEKDAY(V59) -> 5
G60: 42994 | H60: Microeconomia | I60: 4.5 | J60: =WEEKDAY(G60) -> 7 | L60: 43131 | M60: Estatística | N60: 2 | O60: =WEEKDAY(L60,1) -> 4 | Q60: 43203 | R60: Matemática | S60: 3.5 | T60: =WEEKDAY(Q60) -> 6
G61: 42996 | H61: Microeconomia | I61: 3.5 | J61: =WEEKDAY(G61) -> 2 | L61: 43132 | M61: Macroeconomia | N61: 4 | O61: =WEEKDAY(L61,1) -> 5 | Q61: 43204 | R61: Matemática | S61: 4 | T61: =WEEKDAY(Q61) -> 7
G62: 42996 | H62: Economia Brasileira | I62: 1 | J62: =WEEKDAY(G62) -> 2 | L62: 43132 | M62: Matemática | N62: 4 | O62: =WEEKDAY(L62,1) -> 5 | Q62: 43206 | R62: Matemática | S62: 1.5 | T62: =WEEKDAY(Q62) -> 2
G63: 42997 | H63: Economia Brasileira | I63: 1 | J63: =WEEKDAY(G63) -> 3 | L63: 43132 | M63: Estatística | N63: 2 | O63: =WEEKDAY(L63,1) -> 5 | Q63: 43206 | R63: Economia Brasileira | S63: 1.5 | T63: =WEEKDAY(Q63) -> 2
G64: 42998 | H64: Microeconomia | I64: 2.5 | J64: =WEEKDAY(G64) -> 4 | L64: 43133 | M64: Matemática | N64: 6 | O64: =WEEKDAY(L64,1) -> 6 | Q64: 43206 | R64: Microeconomia | S64: 1.5 | T64: =WEEKDAY(Q64) -> 2
G65: 43000 | H65: Microeconomia | I65: 2.5 | J65: =WEEKDAY(G65) -> 6 | L65: 43133 | M65: Macroeconomia | N65: 1 | O65: =WEEKDAY(L65,1) -> 6 | Q65: 43207 | R65: Microeconomia | S65: 4 | T65: =WEEKDAY(Q65) -> 3
G66: 43001 | H66: Microeconomia | I66: 1 | J66: =WEEKDAY(G66) -> 7 | L66: 43133 | M66: Estatística | N66: 1 | O66: =WEEKDAY(L66,1) -> 6 | Q66: 43208 | R66: Microeconomia | S66: 2 | T66: =WEEKDAY(Q66) -> 4
G67: 43003 | H67: Microeconomia | I67: 2 | J67: =WEEKDAY(G67) -> 2 | L67: 43134 | M67: Economia Brasileira | N67: 1 | O67: =WEEKDAY(L67,1) -> 7 | Q67: 43208 | R67: Economia Brasileira | S67: 1.5 | T67: =WEEKDAY(Q67) -> 4
G68: 43004 | H68: Economia Brasileira | I68: 2 | J68: =WEEKDAY(G68) -> 3 | L68: 43137 | M68: Matemática | N68: 0.5 | O68: =WEEKDAY(L68,1) -> 3 | Q68: 43209 | R68: Microeconomia | S68: 3.5 | T68: =WEEKDAY(Q68) -> 5
G69: 43005 | H69: Economia Brasileira | I69: 3 | J69: =WEEKDAY(G69) -> 4 | L69: 43150 | M69: Matemática | N69: 2 | O69: =WEEKDAY(L69,1) -> 2 | Q69: 43209 | R69: Economia Brasileira | S69: 2.5 | T69: =WEEKDAY(Q69) -> 5
G70: 43006 | H70: Economia Brasileira | I70: 2.5 | J70: =WEEKDAY(G70) -> 5 | L70: 43150 | M70: Macroeconomia | N70: 1 | O70: =WEEKDAY(L70,1) -> 2 | Q70: 43210 | R70: Estatística | S70: 1.5 | T70: =WEEKDAY(Q70) -> 6
G71: 43011 | H71: Economia Brasileira | I71: 0.5 | J71: =WEEKDAY(G71) -> 3 | L71: 43150 | M71: Estatística | N71: 1 | O71: =WEEKDAY(L71,1) -> 2 | Q71: 43210 | R71: Microeconomia | S71: 4.5 | T71: =WEEKDAY(Q71) -> 6
... G116: 43075 | H116: Economia Brasileira | I116: 2 | J116: =WEEKDAY(G116) -> 4 | L116: 43168 | M116: Macroeconomia | N116: 2 | O116: =WEEKDAY(L116,1) -> 6 | Q116: 43238 | R116: Matemática | S116: 3 | T116: =WEEKDAY(Q116) -> 6
L117: 43168 | M117: Matemática | N117: 4 | O117: =WEEKDAY(L117,1) -> 6 | Q117: 43239 | R117: Microeconomia | S117: 2.5 | T117: =WEEKDAY(Q117) -> 7
L118: 43168 | M118: Estatística | N118: 1 | O118: =WEEKDAY(L118,1) -> 6 | Q118: 43241 | R118: Microeconomia | S118: 0.5 | T118: =WEEKDAY(Q118) -> 2
L119: 43169 | M119: Estatística | N119: 1.5 | O119: =WEEKDAY(L119,1) -> 7 | Q119: 43245 | R119: Microeconomia | S119: 1.5 | T119: =WEEKDAY(Q119) -> 6
L120: 43169 | M120: Macroeconomia | N120: 2 | O120: =WEEKDAY(L120,1) -> 7 | Q120: 43245 | R120: Estatística | S120: 2.5 | T120: =WEEKDAY(Q120) -> 6
L121: 43169 | M121: Matemática | N121: 1 | O121: =WEEKDAY(L121,1) -> 7 | Q121: 43245 | R121: Macroeconomia | S121: 2.5 | T121: =WEEKDAY(Q121) -> 6
L122: 43169 | M122: Economia Brasileira | N122: 0.5 | O122: =WEEKDAY(L122,1) -> 7 | Q122: 43245 | R122: Economia Brasileira | S122: 0.5 | T122: =WEEKDAY(Q122) -> 6
L123: 43171 | M123: Macroeconomia | N123: 4 | O123: =WEEKDAY(L123,1) -> 2 | Q123: 43246 | R123: Matemática | S123: 3 | T123: =WEEKDAY(Q123) -> 7
L124: 43171 | M124: Estatística | N124: 3.5 | O124: =WEEKDAY(L124,1) -> 2 | Q124: 43246 | R124: Microeconomia | S124: 2 | T124: =WEEKDAY(Q124) -> 7
L125: 43171 | M125: Microeconomia | N125: 0.5 | O125: =WEEKDAY(L125,1) -> 2 | Q125: 43248 | R125: Microeconomia | S125: 1 | T125: =WEEKDAY(Q125) -> 2
L126: 43171 | M126: Matemática | N126: 1 | O126: =WEEKDAY(L126,1) -> 2 | Q126: 43249 | R126: Estatística | S126: 2 | T126: =WEEKDAY(Q126) -> 3
L127: 43172 | M127: Matemática | N127: 7 | O127: =WEEKDAY(L127,1) -> 3 | Q127: 43250 | R127: Matemática | S127: 2.5 | T127: =WEEKDAY(Q127) -> 4
Q128: 43250 | R128: Economia Brasileira | S128: 1 | T128: =WEEKDAY(Q128) -> 4
Q129: 43250 | R129: Macroeconomia | S129: 0.5 | T129: =WEEKDAY(Q129) -> 4
Q130: 43250 | R130: Estatística | S130: 1 | T130: =WEEKDAY(Q130) -> 4
Q131: 43255 | R131: Macroeconomia | S131: 1 | T131: =WEEKDAY(Q131) -> 2
Q132: 43256 | R132: Macroeconomia | S132: 1 | T132: =WEEKDAY(Q132) -> 3
Q133: 43256 | R133: Microeconomia | S133: 1 | T133: =WEEKDAY(Q133) -> 3
Q134: 43257 | R134: Matemática | S134: 1.5 | T134: =WEEKDAY(Q134) -> 4
Q135: 43257 | R135: Microeconomia | S135: 1.5 | T135: =WEEKDAY(Q135) -> 4
Q136: 43258 | R136: Economia Brasileira | S136: 1.5 | T136: =WEEKDAY(Q136) -> 5
Q137: 43258 | R137: Macroeconomia | S137: 1 | T137: =WEEKDAY(Q137) -> 5
Q138: 43258 | R138: Estatística | S138: 1.5 | T138: =WEEKDAY(Q138) -> 5
Q139: 43258 | R139: Microeconomia | S139: 2 | T139: =WEEKDAY(Q139) -> 5
... Q209: 43295 | R209: Macroeconomia | S209: 1.5 | T209: =WEEKDAY(Q209) -> 7
